BEGIN:VCALENDAR
VERSION:2.0
PRODID:-//Bauernladen &quot;Die Scheune&quot; - ECPv6.15.14//NONSGML v1.0//EN
CALSCALE:GREGORIAN
METHOD:PUBLISH
X-ORIGINAL-URL:https://www.bauernladen-mv.de
X-WR-CALDESC:Veranstaltungen für Bauernladen &quot;Die Scheune&quot;
REFRESH-INTERVAL;VALUE=DURATION:PT1H
X-Robots-Tag:noindex
X-PUBLISHED-TTL:PT1H
BEGIN:VTIMEZONE
TZID:Europe/Berlin
BEGIN:DAYLIGHT
TZOFFSETFROM:+0100
TZOFFSETTO:+0200
TZNAME:CEST
DTSTART:20220327T010000
END:DAYLIGHT
BEGIN:STANDARD
TZOFFSETFROM:+0200
TZOFFSETTO:+0100
TZNAME:CET
DTSTART:20221030T010000
END:STANDARD
BEGIN:DAYLIGHT
TZOFFSETFROM:+0100
TZOFFSETTO:+0200
TZNAME:CEST
DTSTART:20230326T010000
END:DAYLIGHT
BEGIN:STANDARD
TZOFFSETFROM:+0200
TZOFFSETTO:+0100
TZNAME:CET
DTSTART:20231029T010000
END:STANDARD
BEGIN:DAYLIGHT
TZOFFSETFROM:+0100
TZOFFSETTO:+0200
TZNAME:CEST
DTSTART:20240331T010000
END:DAYLIGHT
BEGIN:STANDARD
TZOFFSETFROM:+0200
TZOFFSETTO:+0100
TZNAME:CET
DTSTART:20241027T010000
END:STANDARD
END:VTIMEZONE
BEGIN:VEVENT
DTSTART;TZID=Europe/Berlin:20231006T000000
DTEND;TZID=Europe/Berlin:20231006T235959
DTSTAMP:20260425T151017
CREATED:20230926T150612Z
LAST-MODIFIED:20230926T150612Z
UID:1809-1696550400-1696636799@www.bauernladen-mv.de
SUMMARY:Vernissage – Der Rote Faden – Jede Linie führt zur Musik
DESCRIPTION:Aus­stel­lung mit Illus­tra­tio­nen von Kat­rin Harder \n\n “DER ROTE FADEN – Jede Linie führt zur Musik” – so lau­tet der Name der Aus­stel­lung von Kat­rin Har­der\, der nicht nur farb­lich\, son­dern auch the­ma­tisch ihre gesam­ten Wer­ke durchzieht. \n\n Schon seit ihrer Kind­heit beob­ach­tet Kat­rin ihre Umge­bung und setzt die­se in beein­dru­cken­den Zeich­nun­gen um. Ange­fan­gen mit ein­fa­chen Blei­stift­skiz­zen bis hin zu Aquarell‑\, Buntstift‑\, Öl- und Krei­de­zeich­nun­gen hat sie ihre Fähig­kei­ten ste­tig wei­ter­ent­wi­ckelt. Beson­ders ihre Lie­be zu Por­träts und der rea­lis­ti­schen Dar­stel­lung von Men­schen hat sie geprägt und dazu geführt\, dass sie ihre Tech­nik ver­fei­nert hat. \n\n Doch Kat­rin Har­der hat ihre Neu­gier nicht ver­lo­ren und begann Kari­ka­tu­ren zu zeich­nen\, um indi­vi­du­el­le Per­sön­lich­kei­ten auf humor­vol­le Art und Wei­se fest­zu­hal­ten. Dabei hat sie auch die kraft­vol­le Wir­kung von Graf­fi­tis ent­deckt und sich in die­sem Stil ausprobiert. \n\n Als Medi­en­ge­stal­te­rin für Print­me­di­en ist Kat­rin nun seit 25 Jah­ren tätig und liebt ihre Arbeit. Vor allem die Nähe zur Musik und ihr Fai­ble für die­se\, haben sie dabei stets beglei­tet und inspi­riert. Denn genau das ist es\, was ihre Zeich­nun­gen prägt und zusam­men­hält – ihre Lie­be zur Musik. \n\n Weni­ge Bli­cke auf die Wer­ke ihrer ers­ten Aus­stel­lung\, wer­den sie ihren Stil sowie die Mischung von ver­schie­de­nen Tech­ni­ken und musi­ka­li­schen Ein­flüs­sen erken­nen las­sen. Die­se Wer­ke sind Aus­druck von Genau­ig­keit\, Indi­vi­dua­li­tät\, Fan­ta­sie und Farb­kraft und fes­seln den Betrach­ter auf unter­schied­lichs­te Art und Weise. \n\n Die Ver­nis­sa­ge wird mit Live­mu­sik von Gro­wing Echo\, Musi­kern der Röbe­l­er Stadt­mu­si­kan­ten\, eröff­net. Ein Abend\, der Musik und Kunst per­fekt mit­ein­an­der ver­eint und zum Stau­nen und Träu­men ein­lädt. Kom­men Sie vor­bei und las­sen Sie sich von den Wer­ken von Kat­rin Har­der verzaubern! \n\n Insta­gram: windfenster_art \nAm 06. 10. 2023 \nhttp://www.windfenster-art.com
URL:https://www.bauernladen-mv.de/event/vernissage-der-rote-faden-jede-linie-fuehrt-zur-musik/
LOCATION:Mecklenburg-Vorpommern
CATEGORIES:Ausstellung
ATTACH;FMTTYPE=image/jpeg:https://www.bauernladen-mv.de/app/uploads/2023/09/Screenshot_2023-09-14_090226.jpg
END:VEVENT
END:VCALENDAR